BEGIN:VCALENDAR
VERSION:2.0
PRODID:-//TYPO3/NONSGML News system (news)//EN
CALSCALE:GREGORIAN
METHOD:PUBLISH
BEGIN:VEVENT
UID:news-111574@ruden.at

DTSTAMP:20260424T154118Z



DTSTART;TZID=Europe/Vienna:20260624T153000
DTEND;TZID=Europe/Vienna:20260624T000000

SUMMARY:Stammtisch für pflegende Angehörige
DESCRIPTION:

LOCATION:Gemeindeamt Ruden


END:VEVENT
END:VCALENDAR
